BEGIN:VCALENDAR
VERSION:2.0
PRODID:spatie/icalendar-generator
DESCRIPTION:Events from Banderas Globales
X-WR-CALDESC:Events from Banderas Globales
REFRESH-INTERVAL;VALUE=DURATION:PT1440M
X-PUBLISHED-TTL:PT1440M
BEGIN:VTIMEZONE
TZID:Europe/Madrid
BEGIN:STANDARD
DTSTART:20231029T030000Z
TZOFFSETFROM:+0200
TZOFFSETTO:+0100
END:STANDARD
BEGIN:DAYLIGHT
DTSTART:20240331T020000Z
TZOFFSETFROM:+0100
TZOFFSETTO:+0200
END:DAYLIGHT
END:VTIMEZONE
BEGIN:VTIMEZONE
TZID:UTC
BEGIN:STANDARD
DTSTART:20250728T045400Z
TZOFFSETFROM:+0000
TZOFFSETTO:+0000
END:STANDARD
END:VTIMEZONE
BEGIN:VEVENT
UID:26-14
DTSTAMP:20260424T045400Z
SUMMARY:Dia de la independencia
LOCATION:
ORGANIZER;CN=ImaBan:MAILTO:disweb@banderasglobasrd.com
RRULE:FREQ=YEARLY;BYMONTH=02;BYDAY=27;UNTIL=20250227T000000Z
DTSTART;TZID=Europe/Madrid;VALUE=DATE:20240227
DTEND;TZID=Europe/Madrid;VALUE=DATE:20240228
X-ALT-DESC;FMTTYPE=TEXT/HTML:
CATEGORIES:General
URL;VALUE=URI:https://banderasglobalesrd.com/mc-events/dia-de-la-independen
 cia/?mc_id=26
METHOD:PUBLISH
END:VEVENT
END:VCALENDAR