BEGIN:VCALENDAR
VERSION:2.0
PRODID:spatie/icalendar-generator
DESCRIPTION:Events from Banderas Globales
X-WR-CALDESC:Events from Banderas Globales
REFRESH-INTERVAL;VALUE=DURATION:PT1440M
X-PUBLISHED-TTL:PT1440M
BEGIN:VTIMEZONE
TZID:Europe/Madrid
BEGIN:STANDARD
DTSTART:20231029T030000Z
TZOFFSETFROM:+0200
TZOFFSETTO:+0100
END:STANDARD
BEGIN:DAYLIGHT
DTSTART:20240331T020000Z
TZOFFSETFROM:+0100
TZOFFSETTO:+0200
END:DAYLIGHT
END:VTIMEZONE
BEGIN:VTIMEZONE
TZID:UTC
BEGIN:STANDARD
DTSTART:20250728T171351Z
TZOFFSETFROM:+0000
TZOFFSETTO:+0000
END:STANDARD
END:VTIMEZONE
BEGIN:VEVENT
UID:42-22
DTSTAMP:20260424T171351Z
SUMMARY:Batalla de Las Carreras (1849)
LOCATION:
ORGANIZER;CN=ImaBan:MAILTO:disweb@banderasglobasrd.com
RRULE:FREQ=YEARLY;BYMONTH=04;BYDAY=19;UNTIL=20250419T000000Z
DTSTART;TZID=Europe/Madrid;VALUE=DATE:20240419
DTEND;TZID=Europe/Madrid;VALUE=DATE:20240420
X-ALT-DESC;FMTTYPE=TEXT/HTML:
CATEGORIES:General
URL;VALUE=URI:https://banderasglobalesrd.com/mc-events/batalla-de-las-carre
 ras-1849/?mc_id=42
METHOD:PUBLISH
END:VEVENT
END:VCALENDAR