BEGIN:VCALENDAR
VERSION:2.0
PRODID:spatie/icalendar-generator
DESCRIPTION:Events from Banderas Globales
X-WR-CALDESC:Events from Banderas Globales
REFRESH-INTERVAL;VALUE=DURATION:PT1440M
X-PUBLISHED-TTL:PT1440M
BEGIN:VTIMEZONE
TZID:Europe/Madrid
BEGIN:DAYLIGHT
DTSTART:20240331T020000Z
TZOFFSETFROM:+0100
TZOFFSETTO:+0200
END:DAYLIGHT
BEGIN:STANDARD
DTSTART:20241027T030000Z
TZOFFSETFROM:+0200
TZOFFSETTO:+0100
END:STANDARD
END:VTIMEZONE
BEGIN:VTIMEZONE
TZID:UTC
BEGIN:STANDARD
DTSTART:20250729T152601Z
TZOFFSETFROM:+0000
TZOFFSETTO:+0000
END:STANDARD
END:VTIMEZONE
BEGIN:VEVENT
UID:71-37
DTSTAMP:20260425T152601Z
SUMMARY:1936\, Nace en Santo Domingo el Dr. Marcio Veloz Maggiolo\, escrito
 r y arqueólogo
LOCATION:
ORGANIZER;CN=ImaBan:MAILTO:disweb@banderasglobasrd.com
RRULE:FREQ=YEARLY;BYMONTH=08;BYDAY=13;UNTIL=20250813T000000Z
DTSTART;TZID=Europe/Madrid;VALUE=DATE:20240813
DTEND;TZID=Europe/Madrid;VALUE=DATE:20240814
X-ALT-DESC;FMTTYPE=TEXT/HTML:
CATEGORIES:General
URL;VALUE=URI:https://banderasglobalesrd.com/mc-events/1936-nace-en-santo-d
 omingo-el-dr-marcio-veloz-maggiolo-escritor-y-arqueologo/?mc_id=71
METHOD:PUBLISH
END:VEVENT
END:VCALENDAR