BEGIN:VCALENDAR
VERSION:2.0
PRODID:spatie/icalendar-generator
DESCRIPTION:Events from Banderas Globales
X-WR-CALDESC:Events from Banderas Globales
REFRESH-INTERVAL;VALUE=DURATION:PT1440M
X-PUBLISHED-TTL:PT1440M
BEGIN:VTIMEZONE
TZID:Europe/Madrid
BEGIN:STANDARD
DTSTART:20241027T030000Z
TZOFFSETFROM:+0200
TZOFFSETTO:+0100
END:STANDARD
BEGIN:DAYLIGHT
DTSTART:20250330T020000Z
TZOFFSETFROM:+0100
TZOFFSETTO:+0200
END:DAYLIGHT
END:VTIMEZONE
BEGIN:VTIMEZONE
TZID:UTC
BEGIN:STANDARD
DTSTART:20250727T220504Z
TZOFFSETFROM:+0000
TZOFFSETTO:+0000
END:STANDARD
END:VTIMEZONE
BEGIN:VEVENT
UID:19-10
DTSTAMP:20260423T220504Z
SUMMARY:Día del amor y de la Amistad\, \"san valentín\"
LOCATION:
ORGANIZER;CN=ImaBan:MAILTO:disweb@banderasglobasrd.com
RRULE:FREQ=YEARLY;BYMONTH=02;BYDAY=14;UNTIL=20250214T000000Z
DTSTART;TZID=Europe/Madrid;VALUE=DATE:20250214
DTEND;TZID=Europe/Madrid;VALUE=DATE:20250215
X-ALT-DESC;FMTTYPE=TEXT/HTML:
CATEGORIES:General
URL;VALUE=URI:https://banderasglobalesrd.com/mc-events/dia-del-amor-y-de-la
 -amistad-san-valentin/?mc_id=19
METHOD:PUBLISH
END:VEVENT
END:VCALENDAR