BEGIN:VCALENDAR
VERSION:2.0
PRODID:spatie/icalendar-generator
DESCRIPTION:Events from Banderas Globales
X-WR-CALDESC:Events from Banderas Globales
REFRESH-INTERVAL;VALUE=DURATION:PT1440M
X-PUBLISHED-TTL:PT1440M
BEGIN:VTIMEZONE
TZID:Europe/Madrid
BEGIN:STANDARD
DTSTART:20241027T030000Z
TZOFFSETFROM:+0200
TZOFFSETTO:+0100
END:STANDARD
BEGIN:DAYLIGHT
DTSTART:20250330T020000Z
TZOFFSETFROM:+0100
TZOFFSETTO:+0200
END:DAYLIGHT
BEGIN:STANDARD
DTSTART:20251026T030000Z
TZOFFSETFROM:+0200
TZOFFSETTO:+0100
END:STANDARD
END:VTIMEZONE
BEGIN:VTIMEZONE
TZID:UTC
BEGIN:STANDARD
DTSTART:20250728T203450Z
TZOFFSETFROM:+0000
TZOFFSETTO:+0000
END:STANDARD
END:VTIMEZONE
BEGIN:VEVENT
UID:49-25
DTSTAMP:20260424T203450Z
SUMMARY:Día del trabajador
LOCATION:
ORGANIZER;CN=ImaBan:MAILTO:disweb@banderasglobasrd.com
RRULE:FREQ=YEARLY;BYMONTH=05;BYDAY=01;UNTIL=20250501T000000Z
DTSTART;TZID=Europe/Madrid;VALUE=DATE:20250501
DTEND;TZID=Europe/Madrid;VALUE=DATE:20250502
X-ALT-DESC;FMTTYPE=TEXT/HTML:
CATEGORIES:General
URL;VALUE=URI:https://banderasglobalesrd.com/mc-events/dia-del-trabajador/?
 mc_id=49
METHOD:PUBLISH
END:VEVENT
END:VCALENDAR