BEGIN:VCALENDAR
VERSION:2.0
PRODID:spatie/icalendar-generator
DESCRIPTION:Events from Banderas Globales
X-WR-CALDESC:Events from Banderas Globales
REFRESH-INTERVAL;VALUE=DURATION:PT1440M
X-PUBLISHED-TTL:PT1440M
BEGIN:VTIMEZONE
TZID:Europe/Madrid
BEGIN:DAYLIGHT
DTSTART:20250330T020000Z
TZOFFSETFROM:+0100
TZOFFSETTO:+0200
END:DAYLIGHT
BEGIN:STANDARD
DTSTART:20251026T030000Z
TZOFFSETFROM:+0200
TZOFFSETTO:+0100
END:STANDARD
END:VTIMEZONE
BEGIN:VTIMEZONE
TZID:UTC
BEGIN:STANDARD
DTSTART:20250729T124542Z
TZOFFSETFROM:+0000
TZOFFSETTO:+0000
END:STANDARD
END:VTIMEZONE
BEGIN:VEVENT
UID:70-36
DTSTAMP:20260425T124542Z
SUMMARY:1856\, nació el poeta y autor de la letra del Himno Nacional Domin
 icano\, Emilio PrudHomme
LOCATION:
ORGANIZER;CN=ImaBan:MAILTO:disweb@banderasglobasrd.com
RRULE:FREQ=YEARLY;BYMONTH=07;BYDAY=29;UNTIL=20250729T000000Z
DTSTART;TZID=Europe/Madrid;VALUE=DATE:20250729
DTEND;TZID=Europe/Madrid;VALUE=DATE:20250730
X-ALT-DESC;FMTTYPE=TEXT/HTML:
CATEGORIES:General
URL;VALUE=URI:https://banderasglobalesrd.com/mc-events/1856-nacio-el-poeta-
 y-autor-de-la-letra-del-himno-nacional-dominicano-emilio-prudhomme/?mc_id=
 70
METHOD:PUBLISH
END:VEVENT
END:VCALENDAR