BEGIN:VCALENDAR
VERSION:2.0
PRODID:spatie/icalendar-generator
DESCRIPTION:Events from Banderas Globales
X-WR-CALDESC:Events from Banderas Globales
REFRESH-INTERVAL;VALUE=DURATION:PT1440M
X-PUBLISHED-TTL:PT1440M
BEGIN:VTIMEZONE
TZID:Europe/Madrid
BEGIN:DAYLIGHT
DTSTART:20250330T020000Z
TZOFFSETFROM:+0100
TZOFFSETTO:+0200
END:DAYLIGHT
BEGIN:STANDARD
DTSTART:20251026T030000Z
TZOFFSETFROM:+0200
TZOFFSETTO:+0100
END:STANDARD
END:VTIMEZONE
BEGIN:VTIMEZONE
TZID:UTC
BEGIN:STANDARD
DTSTART:20250729T165951Z
TZOFFSETFROM:+0000
TZOFFSETTO:+0000
END:STANDARD
END:VTIMEZONE
BEGIN:VEVENT
UID:76-39
DTSTAMP:20260425T165951Z
SUMMARY:1883\, Se ejecuta por primera vez en público\, el Himno Nacional D
 ominicano en el local de la Logia Esperanza\, calle Las Mercedes\, 4.
LOCATION:
ORGANIZER;CN=ImaBan:MAILTO:disweb@banderasglobasrd.com
RRULE:FREQ=YEARLY;BYMONTH=08;BYDAY=17;UNTIL=20250817T000000Z
DTSTART;TZID=Europe/Madrid;VALUE=DATE:20250817
DTEND;TZID=Europe/Madrid;VALUE=DATE:20250818
X-ALT-DESC;FMTTYPE=TEXT/HTML:
CATEGORIES:General
URL;VALUE=URI:https://banderasglobalesrd.com/mc-events/1883-se-ejecuta-por-
 primera-vez-en-publico-el-himno-nacional-dominicano-en-el-local-de-la-logi
 a-esperanza-calle-las-mercedes-4/?mc_id=76
METHOD:PUBLISH
END:VEVENT
END:VCALENDAR